Workbook

Sheet DLU tabele
E1: Paula Stradiņa klīniskā universitātes slimnīca
M2: REZIDENTA DARBA UN LAIKA UZSKAITES TABELE
C3: Slimnīcas nosaukums
A5: Rezidents | W5: tabeles nr. | AE5: tālr. nr.
A6: Augstskola
A7: Specialitāte | M7: 1 | N7: gada rezidents | X7: 20 | Z7: 25 | AA7: gada | AE7: aprīlis
A8: Cikla nosaukums
D10: Pamata darba laiks kopā ar rezidentūras virsstundām (11h)
A11: Pasniedzēja vārds, uzvārds | B11: Apmācības vieta | D11: =IF(Sheet3!J4>24,"nok","ok") -> ok | E11: =IF(Sheet3!K4>24,"nok","ok") -> ok | F11: =IF(Sheet3!L4>24,"nok","ok") -> ok | G11: =IF(Sheet3!M4>24,"nok","ok") -> ok | H11: =IF(Sheet3!N4>24,"nok","ok") -> ok | I11: =IF(Sheet3!O4>24,"nok","ok") -> ok | J11: =IF(Sheet3!P4>24,"nok","ok") -> ok | K11: =IF(Sheet3!Q4>24,"nok","ok") -> ok | ... AH11: =IF(Sheet3!AN4>24,"nok","ok") -> ok | AI11: Stundas kopā
D12: 1 | E12: 2 | F12: 3 | G12: 4 | H12: 5 | I12: 6 | J12: 7 | K12: 8 | L12: 9 | M12: 10 | N12: 11 | O12: 12 | P12: 13 | Q12: 14 | R12: 15 | S12: 16 | T12: 17 | U12: 18 | V12: 19 | W12: 20 | X12: 21 | Y12: 22 | Z12: 23 | AA12: 24 | AB12: 25 | AC12: 26 | AD12: 27 | AE12: 28 | AF12: 29 | AG12: 30 | AH12: 31
C13: no | AI13: =SUM(D15:AH15) -> 0
C14: līdz
C15: st. | D15: =IF(ISNUMBER(D13),IF((D14-D13<=0),(24-D13+D14),(D14-D13)),0) -> 0 | E15: =IF(ISNUMBER(E13),IF((E14-E13<=0),(24-E13+E14),(E14-E13)),0) -> 0 | F15: =IF(ISNUMBER(F13),IF((F14-F13<=0),(24-F13+F14),(F14-F13)),0) -> 0 | G15: =IF(ISNUMBER(G13),IF((G14-G13<=0),(24-G13+G14),(G14-G13)),0) -> 0 | H15: =IF(ISNUMBER(H13),IF((H14-H13<=0),(24-H13+H14),(H14-H13)),0) -> 0 | I15: =IF(ISNUMBER(I13),IF((I14-I13<=0),(24-I13+I14),(I14-I13)),0) -> 0 | J15: =IF(ISNUMBER(J13),IF((J14-J13<=0),(24-J13+J14),(J14-J13)),0) -> 0 | K15: =IF(ISNUMBER(K13),IF((K14-K13<=0),(24-K13+K14),(K14-K13)),0) -> 0 | ... AH15: =IF(ISNUMBER(AH13),IF((AH14-AH13<=0),(24-AH13+AH14),(AH14-AH13)),0) -> 0
C16: n.st. | D16: =IF(ISNUMBER(D13),VLOOKUP(D13,Sheet3!$B$5:$D$29,3,0)-VLOOKUP((D13+D15),Sheet3!$C$5:$D$53,2,0),0) -> 0 | E16: =IF(ISNUMBER(E13),VLOOKUP(E13,Sheet3!$B$5:$D$29,3,0)-VLOOKUP((E13+E15),Sheet3!$C$5:$D$53,2,0),0) -> 0 | F16: =IF(ISNUMBER(F13),VLOOKUP(F13,Sheet3!$B$5:$D$29,3,0)-VLOOKUP((F13+F15),Sheet3!$C$5:$D$53,2,0),0) -> 0 | G16: =IF(ISNUMBER(G13),VLOOKUP(G13,Sheet3!$B$5:$D$29,3,0)-VLOOKUP((G13+G15),Sheet3!$C$5:$D$53,2,0),0) -> 0 | H16: =IF(ISNUMBER(H13),VLOOKUP(H13,Sheet3!$B$5:$D$29,3,0)-VLOOKUP((H13+H15),Sheet3!$C$5:$D$53,2,0),0) -> 0 | I16: =IF(ISNUMBER(I13),VLOOKUP(I13,Sheet3!$B$5:$D$29,3,0)-VLOOKUP((I13+I15),Sheet3!$C$5:$D$53,2,0),0) -> 0 | J16: =IF(ISNUMBER(J13),VLOOKUP(J13,Sheet3!$B$5:$D$29,3,0)-VLOOKUP((J13+J15),Sheet3!$C$5:$D$53,2,0),0) -> 0 | K16: =IF(ISNUMBER(K13),VLOOKUP(K13,Sheet3!$B$5:$D$29,3,0)-VLOOKUP((K13+K15),Sheet3!$C$5:$D$53,2,0),0) -> 0 | ... AH16: =IF(ISNUMBER(AH13),VLOOKUP(AH13,Sheet3!$B$5:$D$29,3,0)-VLOOKUP((AH13+AH15),Sheet3!$C$5:$D$53,2,0),0) -> 0
C17: no | AI17: =SUM(D19:AH19) -> 0
C18: līdz
C19: st. | D19: =IF(ISNUMBER(D17),IF((D18-D17<=0),(24-D17+D18),(D18-D17)),0) -> 0 | E19: =IF(ISNUMBER(E17),IF((E18-E17<=0),(24-E17+E18),(E18-E17)),0) -> 0 | F19: =IF(ISNUMBER(F17),IF((F18-F17<=0),(24-F17+F18),(F18-F17)),0) -> 0 | G19: =IF(ISNUMBER(G17),IF((G18-G17<=0),(24-G17+G18),(G18-G17)),0) -> 0 | H19: =IF(ISNUMBER(H17),IF((H18-H17<=0),(24-H17+H18),(H18-H17)),0) -> 0 | I19: =IF(ISNUMBER(I17),IF((I18-I17<=0),(24-I17+I18),(I18-I17)),0) -> 0 | J19: =IF(ISNUMBER(J17),IF((J18-J17<=0),(24-J17+J18),(J18-J17)),0) -> 0 | K19: =IF(ISNUMBER(K17),IF((K18-K17<=0),(24-K17+K18),(K18-K17)),0) -> 0 | ... AH19: =IF(ISNUMBER(AH17),IF((AH18-AH17<=0),(24-AH17+AH18),(AH18-AH17)),0) -> 0
C20: n.st. | D20: =IF(ISNUMBER(D17),VLOOKUP(D17,Sheet3!$B$5:$D$29,3,0)-VLOOKUP((D17+D19),Sheet3!$C$5:$D$53,2,0),0) -> 0 | E20: =IF(ISNUMBER(E17),VLOOKUP(E17,Sheet3!$B$5:$D$29,3,0)-VLOOKUP((E17+E19),Sheet3!$C$5:$D$53,2,0),0) -> 0 | F20: =IF(ISNUMBER(F17),VLOOKUP(F17,Sheet3!$B$5:$D$29,3,0)-VLOOKUP((F17+F19),Sheet3!$C$5:$D$53,2,0),0) -> 0 | G20: =IF(ISNUMBER(G17),VLOOKUP(G17,Sheet3!$B$5:$D$29,3,0)-VLOOKUP((G17+G19),Sheet3!$C$5:$D$53,2,0),0) -> 0 | H20: =IF(ISNUMBER(H17),VLOOKUP(H17,Sheet3!$B$5:$D$29,3,0)-VLOOKUP((H17+H19),Sheet3!$C$5:$D$53,2,0),0) -> 0 | I20: =IF(ISNUMBER(I17),VLOOKUP(I17,Sheet3!$B$5:$D$29,3,0)-VLOOKUP((I17+I19),Sheet3!$C$5:$D$53,2,0),0) -> 0 | J20: =IF(ISNUMBER(J17),VLOOKUP(J17,Sheet3!$B$5:$D$29,3,0)-VLOOKUP((J17+J19),Sheet3!$C$5:$D$53,2,0),0) -> 0 | K20: =IF(ISNUMBER(K17),VLOOKUP(K17,Sheet3!$B$5:$D$29,3,0)-VLOOKUP((K17+K19),Sheet3!$C$5:$D$53,2,0),0) -> 0 | ... AH20: =IF(ISNUMBER(AH17),VLOOKUP(AH17,Sheet3!$B$5:$D$29,3,0)-VLOOKUP((AH17+AH19),Sheet3!$C$5:$D$53,2,0),0) -> 0
C21: no | AI21: =SUM(D23:AH23) -> 0
C22: līdz
C23: st. | D23: =IF(ISNUMBER(D21),IF((D22-D21<=0),(24-D21+D22),(D22-D21)),0) -> 0 | E23: =IF(ISNUMBER(E21),IF((E22-E21<=0),(24-E21+E22),(E22-E21)),0) -> 0 | F23: =IF(ISNUMBER(F21),IF((F22-F21<=0),(24-F21+F22),(F22-F21)),0) -> 0 | G23: =IF(ISNUMBER(G21),IF((G22-G21<=0),(24-G21+G22),(G22-G21)),0) -> 0 | H23: =IF(ISNUMBER(H21),IF((H22-H21<=0),(24-H21+H22),(H22-H21)),0) -> 0 | I23: =IF(ISNUMBER(I21),IF((I22-I21<=0),(24-I21+I22),(I22-I21)),0) -> 0 | J23: =IF(ISNUMBER(J21),IF((J22-J21<=0),(24-J21+J22),(J22-J21)),0) -> 0 | K23: =IF(ISNUMBER(K21),IF((K22-K21<=0),(24-K21+K22),(K22-K21)),0) -> 0 | ... AH23: =IF(ISNUMBER(AH21),IF((AH22-AH21<=0),(24-AH21+AH22),(AH22-AH21)),0) -> 0
C24: n.st. | D24: =IF(ISNUMBER(D21),VLOOKUP(D21,Sheet3!$B$5:$D$29,3,0)-VLOOKUP((D21+D23),Sheet3!$C$5:$D$53,2,0),0) -> 0 | E24: =IF(ISNUMBER(E21),VLOOKUP(E21,Sheet3!$B$5:$D$29,3,0)-VLOOKUP((E21+E23),Sheet3!$C$5:$D$53,2,0),0) -> 0 | F24: =IF(ISNUMBER(F21),VLOOKUP(F21,Sheet3!$B$5:$D$29,3,0)-VLOOKUP((F21+F23),Sheet3!$C$5:$D$53,2,0),0) -> 0 | G24: =IF(ISNUMBER(G21),VLOOKUP(G21,Sheet3!$B$5:$D$29,3,0)-VLOOKUP((G21+G23),Sheet3!$C$5:$D$53,2,0),0) -> 0 | H24: =IF(ISNUMBER(H21),VLOOKUP(H21,Sheet3!$B$5:$D$29,3,0)-VLOOKUP((H21+H23),Sheet3!$C$5:$D$53,2,0),0) -> 0 | I24: =IF(ISNUMBER(I21),VLOOKUP(I21,Sheet3!$B$5:$D$29,3,0)-VLOOKUP((I21+I23),Sheet3!$C$5:$D$53,2,0),0) -> 0 | J24: =IF(ISNUMBER(J21),VLOOKUP(J21,Sheet3!$B$5:$D$29,3,0)-VLOOKUP((J21+J23),Sheet3!$C$5:$D$53,2,0),0) -> 0 | K24: =IF(ISNUMBER(K21),VLOOKUP(K21,Sheet3!$B$5:$D$29,3,0)-VLOOKUP((K21+K23),Sheet3!$C$5:$D$53,2,0),0) -> 0 | ... AH24: =IF(ISNUMBER(AH21),VLOOKUP(AH21,Sheet3!$B$5:$D$29,3,0)-VLOOKUP((AH21+AH23),Sheet3!$C$5:$D$53,2,0),0) -> 0
E26: Cikla vadītājs: | AF26: Nostrādātas stundas: | AI26: =SUM(AI13:AI24) -> 0
J27: (vārds, uzvārds) | S27: (paraksts) | X27: z.v. | AE27: t.sk.nakts stundas | AI27: =SUM(D16:AH16,D20:AH20,D24:AH24) -> 0
D28: Atbildīgais par specialitāti:
J29: (vārds, uzvārds) | S29: (paraksts) | X29: z.v.
E32: Rezidents
J33: (paraksts) | S33: z.v. | X33: (datums)
A35: REZIDENTA APMĀCĪBAS PROCESA NOVĒRTĒJUMS
A37: Ārsts un cits mācību personāls, kurš visvairāk palīdzēja Tavā mācību procesā
U38: (vārds, uzvārds)
A40: Savu apmācības procesu šomēnes novērtēju ar : | H40: 1 | I40: 2 | J40: 3 | K40: 4 | L40: 5 | M40: 6 | N40: 7 | O40: 8 | P40: 9 | Q40: 10 | S40: ballēm (apvilkt vajadzīgo )

Sheet Parakstu_lapa
C2: REZIDENTA DARBA UN MĀCĪBU LAIKA UZSKAITES TABELE
A6: Rezidents | K6: tabeles nr.
A7: Augstskola
A8: Specialitāte | J8: gada rezidents | M8: 20 | O8: gada
A9: Cikla nosaukums
A12: Cikla nosaukums:
A13: Laika posms:
A15: Cikla vadītāja paraksts:
A17: Cikla nosaukums:
A18: Laika posms:
A20: Cikla vadītāja paraksts:
A22: Cikla nosaukums:
A23: Laika posms:
A25: Cikla vadītāja paraksts:
A30: Rezidents:

Sheet teorētiskā semināru atskaite
E2: (slimnīcas nosaukums)
E3: REZIDENTA TEORĒTISKO SEMINĀRU UZSKAITES TABELE
A5: Rezidents | S5: tālr. nr. | AB5: e-pasts
A7: Augstskola
A8: Specialitāte | N8: gada rezidents | T8: 2025 | W8: gada | Y8: aprīlis
A10: Datums | C10: Norises vieta | G10: Semināra tēma | S10: Stundas (akadēmiskās) | V10: Semināra vadītāja vārds, uzvārds | AD10: Semināra vadītāja paraksts
L22: Atbildīgais par specialitāti
B23: Tabeles nodošanas datums | X23: Vārds, uzvārds, paraksts
O26: Rezidents
X27: Vārds, uzvārds, paraksts
A29: Seminārus novērtēju ar : | I29: 1 | J29: 2 | K29: 3 | L29: 4 | M29: 5 | N29: 6 | O29: 7 | P29: 8 | Q29: 9 | R29: 10 | T29: ballēm (apvilkt vajadzīgo )

Sheet Sheet3
J2: 1 | K2: 2 | L2: 3 | M2: 4 | N2: 5 | O2: 6 | P2: 7 | Q2: 8 | R2: 9 | S2: 10 | T2: 11 | U2: 12 | V2: 13 | W2: 14 | X2: 15 | Y2: 16 | Z2: 17 | AA2: 18 | AB2: 19 | AC2: 20 | AD2: 21 | AE2: 22 | AF2: 23 | AG2: 24 | AH2: 25 | AI2: 26 | AJ2: 27 | AK2: 28 | AL2: 29 | AM2: 30 | AN2: 31
B4: H1 | C4: H2 | D4: n/st | J4: ='DLU tabele'!D15+'DLU tabele'!D19+'DLU tabele'!D23 -> 0 | K4: ='DLU tabele'!E15+'DLU tabele'!E19+'DLU tabele'!E23 -> 0 | L4: ='DLU tabele'!F15+'DLU tabele'!F19+'DLU tabele'!F23 -> 0 | M4: ='DLU tabele'!G15+'DLU tabele'!G19+'DLU tabele'!G23 -> 0 | N4: ='DLU tabele'!H15+'DLU tabele'!H19+'DLU tabele'!H23 -> 0 | O4: ='DLU tabele'!I15+'DLU tabele'!I19+'DLU tabele'!I23 -> 0 | P4: ='DLU tabele'!J15+'DLU tabele'!J19+'DLU tabele'!J23 -> 0 | Q4: ='DLU tabele'!K15+'DLU tabele'!K19+'DLU tabele'!K23 -> 0 | ... AN4: ='DLU tabele'!AH15+'DLU tabele'!AH19+'DLU tabele'!AH23 -> 0
B5: 24 | D5: 8 | G5: 1
B6: 1 | C6: 1 | D6: 7 | G6: 2
B7: 2 | C7: 2 | D7: 6 | G7: 3
B8: 3 | C8: 3 | D8: 5 | G8: 4
B9: 4 | C9: 4 | D9: 4 | G9: 5
B10: 5 | C10: 5 | D10: 3 | G10: 6
B11: 6 | C11: 6 | D11: 2 | G11: 7
B12: 7 | C12: 7 | D12: 2 | G12: 8
B13: 8 | C13: 8 | D13: 2 | G13: 9
B14: 9 | C14: 9 | D14: 2 | G14: 10
B15: 10 | C15: 10 | D15: 2 | G15: 11
B16: 11 | C16: 11 | D16: 2 | G16: 12
B17: 12 | C17: 12 | D17: 2 | G17: 13
... B28: 23 | C28: 23 | D28: 1 | G28: 24
C29: 24 | D29: 0 | G29: A
C30: 25 | D30: =+D6 -> 7 | G30: S
C31: 26 | D31: =+D7 -> 6 | G31: K
C32: 27 | D32: =+D8 -> 5
C33: 28 | D33: =+D9 -> 4
C34: 29 | D34: =+D10 -> 3
C35: 30 | D35: =+D11 -> 2
C36: 31 | D36: =+D12 -> 2
C37: 32 | D37: =+D13 -> 2
C38: 33 | D38: =+D14 -> 2
C39: 34 | D39: =+D15 -> 2
C40: 35 | D40: =+D16 -> 2
C41: 36 | D41: =+D17 -> 2
C42: 37 | D42: =+D18 -> 2
C43: 38 | D43: =+D19 -> 2
... C52: 47 | D52: =+D28 -> 1
C53: 48 | D53: 0
