Workbook

Sheet DLU tabele
E1: Paula Stradiņa klīniskā universitātes slimnīca
E2: REZIDENTA DARBA UN LAIKA UZSKAITES TABELE
A4: Rezidents | W4: tabeles nr. | AE4: tālr. nr.
A5: Augstskola
A6: Specialitāte | M6: 1 | N6: gada rezidents | X6: 20 | Z6: 25 | AA6: gada | AE6: aprīlis
A7: Cikla nosaukums
D9: Pamata darba laiks kopā ar rezidentūras virsstundām (11h)
A10: Pasniedzēja vārds, uzvārds | B10: Apmācības vieta | D10: =IF(Sheet3!J4>24,"nok","ok") -> ok | E10: =IF(Sheet3!K4>24,"nok","ok") -> ok | F10: =IF(Sheet3!L4>24,"nok","ok") -> ok | G10: =IF(Sheet3!M4>24,"nok","ok") -> ok | H10: =IF(Sheet3!N4>24,"nok","ok") -> ok | I10: =IF(Sheet3!O4>24,"nok","ok") -> ok | J10: =IF(Sheet3!P4>24,"nok","ok") -> ok | K10: =IF(Sheet3!Q4>24,"nok","ok") -> ok | ... AH10: =IF(Sheet3!AN4>24,"nok","ok") -> ok | AI10: Stundas kopā
D11: 1 | E11: 2 | F11: 3 | G11: 4 | H11: 5 | I11: 6 | J11: 7 | K11: 8 | L11: 9 | M11: 10 | N11: 11 | O11: 12 | P11: 13 | Q11: 14 | R11: 15 | S11: 16 | T11: 17 | U11: 18 | V11: 19 | W11: 20 | X11: 21 | Y11: 22 | Z11: 23 | AA11: 24 | AB11: 25 | AC11: 26 | AD11: 27 | AE11: 28 | AF11: 29 | AG11: 30 | AH11: 31
C12: no | AI12: =SUM(D14:AH14) -> 0
C13: līdz
C14: st. | D14: =IF(ISNUMBER(D12),IF((D13-D12<=0),(24-D12+D13),(D13-D12)),0) -> 0 | E14: =IF(ISNUMBER(E12),IF((E13-E12<=0),(24-E12+E13),(E13-E12)),0) -> 0 | F14: =IF(ISNUMBER(F12),IF((F13-F12<=0),(24-F12+F13),(F13-F12)),0) -> 0 | G14: =IF(ISNUMBER(G12),IF((G13-G12<=0),(24-G12+G13),(G13-G12)),0) -> 0 | H14: =IF(ISNUMBER(H12),IF((H13-H12<=0),(24-H12+H13),(H13-H12)),0) -> 0 | I14: =IF(ISNUMBER(I12),IF((I13-I12<=0),(24-I12+I13),(I13-I12)),0) -> 0 | J14: =IF(ISNUMBER(J12),IF((J13-J12<=0),(24-J12+J13),(J13-J12)),0) -> 0 | K14: =IF(ISNUMBER(K12),IF((K13-K12<=0),(24-K12+K13),(K13-K12)),0) -> 0 | ... AH14: =IF(ISNUMBER(AH12),IF((AH13-AH12<=0),(24-AH12+AH13),(AH13-AH12)),0) -> 0
C15: n.st. | D15: =IF(ISNUMBER(D12),VLOOKUP(D12,Sheet3!$B$5:$D$29,3,0)-VLOOKUP((D12+D14),Sheet3!$C$5:$D$53,2,0),0) -> 0 | E15: =IF(ISNUMBER(E12),VLOOKUP(E12,Sheet3!$B$5:$D$29,3,0)-VLOOKUP((E12+E14),Sheet3!$C$5:$D$53,2,0),0) -> 0 | F15: =IF(ISNUMBER(F12),VLOOKUP(F12,Sheet3!$B$5:$D$29,3,0)-VLOOKUP((F12+F14),Sheet3!$C$5:$D$53,2,0),0) -> 0 | G15: =IF(ISNUMBER(G12),VLOOKUP(G12,Sheet3!$B$5:$D$29,3,0)-VLOOKUP((G12+G14),Sheet3!$C$5:$D$53,2,0),0) -> 0 | H15: =IF(ISNUMBER(H12),VLOOKUP(H12,Sheet3!$B$5:$D$29,3,0)-VLOOKUP((H12+H14),Sheet3!$C$5:$D$53,2,0),0) -> 0 | I15: =IF(ISNUMBER(I12),VLOOKUP(I12,Sheet3!$B$5:$D$29,3,0)-VLOOKUP((I12+I14),Sheet3!$C$5:$D$53,2,0),0) -> 0 | J15: =IF(ISNUMBER(J12),VLOOKUP(J12,Sheet3!$B$5:$D$29,3,0)-VLOOKUP((J12+J14),Sheet3!$C$5:$D$53,2,0),0) -> 0 | K15: =IF(ISNUMBER(K12),VLOOKUP(K12,Sheet3!$B$5:$D$29,3,0)-VLOOKUP((K12+K14),Sheet3!$C$5:$D$53,2,0),0) -> 0 | ... AH15: =IF(ISNUMBER(AH12),VLOOKUP(AH12,Sheet3!$B$5:$D$29,3,0)-VLOOKUP((AH12+AH14),Sheet3!$C$5:$D$53,2,0),0) -> 0
C16: no | AI16: =SUM(D18:AH18) -> 0
C17: līdz
C18: st. | D18: =IF(ISNUMBER(D16),IF((D17-D16<=0),(24-D16+D17),(D17-D16)),0) -> 0 | E18: =IF(ISNUMBER(E16),IF((E17-E16<=0),(24-E16+E17),(E17-E16)),0) -> 0 | F18: =IF(ISNUMBER(F16),IF((F17-F16<=0),(24-F16+F17),(F17-F16)),0) -> 0 | G18: =IF(ISNUMBER(G16),IF((G17-G16<=0),(24-G16+G17),(G17-G16)),0) -> 0 | H18: =IF(ISNUMBER(H16),IF((H17-H16<=0),(24-H16+H17),(H17-H16)),0) -> 0 | I18: =IF(ISNUMBER(I16),IF((I17-I16<=0),(24-I16+I17),(I17-I16)),0) -> 0 | J18: =IF(ISNUMBER(J16),IF((J17-J16<=0),(24-J16+J17),(J17-J16)),0) -> 0 | K18: =IF(ISNUMBER(K16),IF((K17-K16<=0),(24-K16+K17),(K17-K16)),0) -> 0 | ... AH18: =IF(ISNUMBER(AH16),IF((AH17-AH16<=0),(24-AH16+AH17),(AH17-AH16)),0) -> 0
C19: n.st. | D19: =IF(ISNUMBER(D16),VLOOKUP(D16,Sheet3!$B$5:$D$29,3,0)-VLOOKUP((D16+D18),Sheet3!$C$5:$D$53,2,0),0) -> 0 | E19: =IF(ISNUMBER(E16),VLOOKUP(E16,Sheet3!$B$5:$D$29,3,0)-VLOOKUP((E16+E18),Sheet3!$C$5:$D$53,2,0),0) -> 0 | F19: =IF(ISNUMBER(F16),VLOOKUP(F16,Sheet3!$B$5:$D$29,3,0)-VLOOKUP((F16+F18),Sheet3!$C$5:$D$53,2,0),0) -> 0 | G19: =IF(ISNUMBER(G16),VLOOKUP(G16,Sheet3!$B$5:$D$29,3,0)-VLOOKUP((G16+G18),Sheet3!$C$5:$D$53,2,0),0) -> 0 | H19: =IF(ISNUMBER(H16),VLOOKUP(H16,Sheet3!$B$5:$D$29,3,0)-VLOOKUP((H16+H18),Sheet3!$C$5:$D$53,2,0),0) -> 0 | I19: =IF(ISNUMBER(I16),VLOOKUP(I16,Sheet3!$B$5:$D$29,3,0)-VLOOKUP((I16+I18),Sheet3!$C$5:$D$53,2,0),0) -> 0 | J19: =IF(ISNUMBER(J16),VLOOKUP(J16,Sheet3!$B$5:$D$29,3,0)-VLOOKUP((J16+J18),Sheet3!$C$5:$D$53,2,0),0) -> 0 | K19: =IF(ISNUMBER(K16),VLOOKUP(K16,Sheet3!$B$5:$D$29,3,0)-VLOOKUP((K16+K18),Sheet3!$C$5:$D$53,2,0),0) -> 0 | ... AH19: =IF(ISNUMBER(AH16),VLOOKUP(AH16,Sheet3!$B$5:$D$29,3,0)-VLOOKUP((AH16+AH18),Sheet3!$C$5:$D$53,2,0),0) -> 0
C20: no | AI20: =SUM(D22:AH22) -> 0
C21: līdz
C22: st. | D22: =IF(ISNUMBER(D20),IF((D21-D20<=0),(24-D20+D21),(D21-D20)),0) -> 0 | E22: =IF(ISNUMBER(E20),IF((E21-E20<=0),(24-E20+E21),(E21-E20)),0) -> 0 | F22: =IF(ISNUMBER(F20),IF((F21-F20<=0),(24-F20+F21),(F21-F20)),0) -> 0 | G22: =IF(ISNUMBER(G20),IF((G21-G20<=0),(24-G20+G21),(G21-G20)),0) -> 0 | H22: =IF(ISNUMBER(H20),IF((H21-H20<=0),(24-H20+H21),(H21-H20)),0) -> 0 | I22: =IF(ISNUMBER(I20),IF((I21-I20<=0),(24-I20+I21),(I21-I20)),0) -> 0 | J22: =IF(ISNUMBER(J20),IF((J21-J20<=0),(24-J20+J21),(J21-J20)),0) -> 0 | K22: =IF(ISNUMBER(K20),IF((K21-K20<=0),(24-K20+K21),(K21-K20)),0) -> 0 | ... AH22: =IF(ISNUMBER(AH20),IF((AH21-AH20<=0),(24-AH20+AH21),(AH21-AH20)),0) -> 0
C23: n.st. | D23: =IF(ISNUMBER(D20),VLOOKUP(D20,Sheet3!$B$5:$D$29,3,0)-VLOOKUP((D20+D22),Sheet3!$C$5:$D$53,2,0),0) -> 0 | E23: =IF(ISNUMBER(E20),VLOOKUP(E20,Sheet3!$B$5:$D$29,3,0)-VLOOKUP((E20+E22),Sheet3!$C$5:$D$53,2,0),0) -> 0 | F23: =IF(ISNUMBER(F20),VLOOKUP(F20,Sheet3!$B$5:$D$29,3,0)-VLOOKUP((F20+F22),Sheet3!$C$5:$D$53,2,0),0) -> 0 | G23: =IF(ISNUMBER(G20),VLOOKUP(G20,Sheet3!$B$5:$D$29,3,0)-VLOOKUP((G20+G22),Sheet3!$C$5:$D$53,2,0),0) -> 0 | H23: =IF(ISNUMBER(H20),VLOOKUP(H20,Sheet3!$B$5:$D$29,3,0)-VLOOKUP((H20+H22),Sheet3!$C$5:$D$53,2,0),0) -> 0 | I23: =IF(ISNUMBER(I20),VLOOKUP(I20,Sheet3!$B$5:$D$29,3,0)-VLOOKUP((I20+I22),Sheet3!$C$5:$D$53,2,0),0) -> 0 | J23: =IF(ISNUMBER(J20),VLOOKUP(J20,Sheet3!$B$5:$D$29,3,0)-VLOOKUP((J20+J22),Sheet3!$C$5:$D$53,2,0),0) -> 0 | K23: =IF(ISNUMBER(K20),VLOOKUP(K20,Sheet3!$B$5:$D$29,3,0)-VLOOKUP((K20+K22),Sheet3!$C$5:$D$53,2,0),0) -> 0 | ... AH23: =IF(ISNUMBER(AH20),VLOOKUP(AH20,Sheet3!$B$5:$D$29,3,0)-VLOOKUP((AH20+AH22),Sheet3!$C$5:$D$53,2,0),0) -> 0
E25: Cikla vadītājs: | AF25: Nostrādātas stundas: | AI25: =SUM(AI12:AI23) -> 0
J26: (vārds, uzvārds) | S26: (paraksts) | X26: z.v. | AE26: t.sk.nakts stundas | AI26: =SUM(D15:AH15,D19:AH19,D23:AH23) -> 0
D27: Atbildīgais par specialitāti:
J28: (vārds, uzvārds) | S28: (paraksts) | X28: z.v.
D29: Slimnīcas virsstundas
A30: Pasniedzēja vārds, uzvārds | B30: Apmācības vieta | D30: 1 | E30: 2 | F30: 3 | G30: 4 | H30: 5 | I30: 6 | J30: 7 | K30: 8 | L30: 9 | M30: 10 | N30: 11 | O30: 12 | P30: 13 | Q30: 14 | R30: 15 | S30: 16 | T30: 17 | U30: 18 | V30: 19 | W30: 20 | X30: 21 | Y30: 22 | Z30: 23 | AA30: 24 | AB30: 25 | AC30: 26 | AD30: 27 | AE30: 28 | AF30: 29 | AG30: 30 | AH30: 31 | AI30: Stundas kopā
C32: no | AI32: =SUM(D34:AH34) -> 0
C33: līdz
C34: st. | D34: =IF(ISNUMBER(D32),IF((D33-D32<=0),(24-D32+D33),(D33-D32)),0) -> 0 | E34: =IF(ISNUMBER(E32),IF((E33-E32<=0),(24-E32+E33),(E33-E32)),0) -> 0 | F34: =IF(ISNUMBER(F32),IF((F33-F32<=0),(24-F32+F33),(F33-F32)),0) -> 0 | G34: =IF(ISNUMBER(G32),IF((G33-G32<=0),(24-G32+G33),(G33-G32)),0) -> 0 | H34: =IF(ISNUMBER(H32),IF((H33-H32<=0),(24-H32+H33),(H33-H32)),0) -> 0 | I34: =IF(ISNUMBER(I32),IF((I33-I32<=0),(24-I32+I33),(I33-I32)),0) -> 0 | J34: =IF(ISNUMBER(J32),IF((J33-J32<=0),(24-J32+J33),(J33-J32)),0) -> 0 | K34: =IF(ISNUMBER(K32),IF((K33-K32<=0),(24-K32+K33),(K33-K32)),0) -> 0 | ... AH34: =IF(ISNUMBER(AH32),IF((AH33-AH32<=0),(24-AH32+AH33),(AH33-AH32)),0) -> 0
C35: n.st. | D35: =IF(ISNUMBER(D32),VLOOKUP(D32,Sheet3!$B$5:$D$29,3,0)-VLOOKUP((D32+D34),Sheet3!$C$5:$D$53,2,0),0) -> 0 | E35: =IF(ISNUMBER(E32),VLOOKUP(E32,Sheet3!$B$5:$D$29,3,0)-VLOOKUP((E32+E34),Sheet3!$C$5:$D$53,2,0),0) -> 0 | F35: =IF(ISNUMBER(F32),VLOOKUP(F32,Sheet3!$B$5:$D$29,3,0)-VLOOKUP((F32+F34),Sheet3!$C$5:$D$53,2,0),0) -> 0 | G35: =IF(ISNUMBER(G32),VLOOKUP(G32,Sheet3!$B$5:$D$29,3,0)-VLOOKUP((G32+G34),Sheet3!$C$5:$D$53,2,0),0) -> 0 | H35: =IF(ISNUMBER(H32),VLOOKUP(H32,Sheet3!$B$5:$D$29,3,0)-VLOOKUP((H32+H34),Sheet3!$C$5:$D$53,2,0),0) -> 0 | I35: =IF(ISNUMBER(I32),VLOOKUP(I32,Sheet3!$B$5:$D$29,3,0)-VLOOKUP((I32+I34),Sheet3!$C$5:$D$53,2,0),0) -> 0 | J35: =IF(ISNUMBER(J32),VLOOKUP(J32,Sheet3!$B$5:$D$29,3,0)-VLOOKUP((J32+J34),Sheet3!$C$5:$D$53,2,0),0) -> 0 | K35: =IF(ISNUMBER(K32),VLOOKUP(K32,Sheet3!$B$5:$D$29,3,0)-VLOOKUP((K32+K34),Sheet3!$C$5:$D$53,2,0),0) -> 0 | ... AH35: =IF(ISNUMBER(AH32),VLOOKUP(AH32,Sheet3!$B$5:$D$29,3,0)-VLOOKUP((AH32+AH34),Sheet3!$C$5:$D$53,2,0),0) -> 0
B37: PSKUS ārstniecības struktūrvienības vadītājs | AF37: Nostrādātas stundas KOPĀ: | AI37: =AI12+AI16+AI20+AI32 -> 0
J38: (vārds, uzvārds) | S38: (paraksts) | X38: z.v. | AE38: t.sk.nakts stundas | AI38: =SUM(D15:AH15,D19:AH19,D23:AH23,D35:AH35) -> 0
E41: Rezidents
J42: (paraksts) | S42: z.v. | X42: (datums)
A44: REZIDENTA APMĀCĪBAS PROCESA NOVĒRTĒJUMS
A46: Ārsts un cits mācību personāls, kurš visvairāk palīdzēja Tavā mācību procesā
U47: (vārds, uzvārds)
A49: Savu apmācības procesu šomēnes novērtēju ar : | H49: 1 | I49: 2 | J49: 3 | K49: 4 | L49: 5 | M49: 6 | N49: 7 | O49: 8 | P49: 9 | Q49: 10 | S49: ballēm (apvilkt vajadzīgo )

Sheet Parakstu_lapa
C1: Paula Stradiņa klīniskā universitātes slimnīca
C2: REZIDENTA DARBA UN MĀCĪBU LAIKA UZSKAITES TABELE
A6: Rezidents | K6: tabeles nr.
A7: Augstskola
A8: Specialitāte | J8: gada rezidents | M8: 20 | O8: gada
A9: Cikla nosaukums
A12: Cikla nosaukums:
A13: Laika posms:
A15: Cikla vadītāja paraksts:
A17: Cikla nosaukums:
A18: Laika posms:
A20: Cikla vadītāja paraksts:
A22: Cikla nosaukums:
A23: Laika posms:
A25: Cikla vadītāja paraksts:
A30: Rezidents:

Sheet teorētiskā semināru atskaite
E1: VSIA
E2: Paula Stradiņa klīniskā universitātes slimnīca
E3: REZIDENTA TEORĒTISKO SEMINĀRU UZSKAITES TABELE
A5: Rezidents | S5: tālr. nr. | AB5: e-pasts
A7: Augstskola
A8: Specialitāte | N8: gada rezidents | T8: 2025 | W8: gada | Y8: aprīlis
A10: Datums | C10: Norises vieta | G10: Semināra tēma | S10: Stundas (akadēmiskās) | V10: Semināra vadītāja vārds, uzvārds | AD10: Semināra vadītāja paraksts
L22: Atbildīgais par specialitāti
B23: Tabeles nodošanas datums | X23: Vārds, uzvārds, paraksts
O26: Rezidents
X27: Vārds, uzvārds, paraksts
A29: Seminārus novērtēju ar : | I29: 1 | J29: 2 | K29: 3 | L29: 4 | M29: 5 | N29: 6 | O29: 7 | P29: 8 | Q29: 9 | R29: 10 | T29: ballēm (apvilkt vajadzīgo )

Sheet Sheet3
J2: 1 | K2: 2 | L2: 3 | M2: 4 | N2: 5 | O2: 6 | P2: 7 | Q2: 8 | R2: 9 | S2: 10 | T2: 11 | U2: 12 | V2: 13 | W2: 14 | X2: 15 | Y2: 16 | Z2: 17 | AA2: 18 | AB2: 19 | AC2: 20 | AD2: 21 | AE2: 22 | AF2: 23 | AG2: 24 | AH2: 25 | AI2: 26 | AJ2: 27 | AK2: 28 | AL2: 29 | AM2: 30 | AN2: 31
B4: H1 | C4: H2 | D4: n/st | J4: ='DLU tabele'!D14+'DLU tabele'!D18+'DLU tabele'!D22+'DLU tabele'!D34 -> 0 | K4: ='DLU tabele'!E14+'DLU tabele'!E18+'DLU tabele'!E22+'DLU tabele'!E34 -> 0 | L4: ='DLU tabele'!F14+'DLU tabele'!F18+'DLU tabele'!F22+'DLU tabele'!F34 -> 0 | M4: ='DLU tabele'!G14+'DLU tabele'!G18+'DLU tabele'!G22+'DLU tabele'!G34 -> 0 | N4: ='DLU tabele'!H14+'DLU tabele'!H18+'DLU tabele'!H22+'DLU tabele'!H34 -> 0 | O4: ='DLU tabele'!I14+'DLU tabele'!I18+'DLU tabele'!I22+'DLU tabele'!I34 -> 0 | P4: ='DLU tabele'!J14+'DLU tabele'!J18+'DLU tabele'!J22+'DLU tabele'!J34 -> 0 | Q4: ='DLU tabele'!K14+'DLU tabele'!K18+'DLU tabele'!K22+'DLU tabele'!K34 -> 0 | ... AN4: ='DLU tabele'!AH14+'DLU tabele'!AH18+'DLU tabele'!AH22+'DLU tabele'!AH34 -> 0
B5: 24 | D5: 8 | G5: 1
B6: 1 | C6: 1 | D6: 7 | G6: 2
B7: 2 | C7: 2 | D7: 6 | G7: 3
B8: 3 | C8: 3 | D8: 5 | G8: 4
B9: 4 | C9: 4 | D9: 4 | G9: 5
B10: 5 | C10: 5 | D10: 3 | G10: 6
B11: 6 | C11: 6 | D11: 2 | G11: 7
B12: 7 | C12: 7 | D12: 2 | G12: 8
B13: 8 | C13: 8 | D13: 2 | G13: 9
B14: 9 | C14: 9 | D14: 2 | G14: 10
B15: 10 | C15: 10 | D15: 2 | G15: 11
B16: 11 | C16: 11 | D16: 2 | G16: 12
B17: 12 | C17: 12 | D17: 2 | G17: 13
... B28: 23 | C28: 23 | D28: 1 | G28: 24
C29: 24 | D29: 0 | G29: A
C30: 25 | D30: =+D6 -> 7 | G30: S
C31: 26 | D31: =+D7 -> 6 | G31: K
C32: 27 | D32: =+D8 -> 5
C33: 28 | D33: =+D9 -> 4
C34: 29 | D34: =+D10 -> 3
C35: 30 | D35: =+D11 -> 2
C36: 31 | D36: =+D12 -> 2
C37: 32 | D37: =+D13 -> 2
C38: 33 | D38: =+D14 -> 2
C39: 34 | D39: =+D15 -> 2
C40: 35 | D40: =+D16 -> 2
C41: 36 | D41: =+D17 -> 2
C42: 37 | D42: =+D18 -> 2
C43: 38 | D43: =+D19 -> 2
... C52: 47 | D52: =+D28 -> 1
C53: 48 | D53: 0
